BEGIN:VCALENDAR
VERSION:2.0
PRODID:-//First Baptist Hendersonville - ECPv6.15.20//NONSGML v1.0//EN
CALSCALE:GREGORIAN
METHOD:PUBLISH
X-WR-CALNAME:First Baptist Hendersonville
X-ORIGINAL-URL:https://fbchville.com
X-WR-CALDESC:Events for First Baptist Hendersonville
REFRESH-INTERVAL;VALUE=DURATION:PT1H
X-Robots-Tag:noindex
X-PUBLISHED-TTL:PT1H
BEGIN:VTIMEZONE
TZID:America/Chicago
BEGIN:DAYLIGHT
TZOFFSETFROM:-0600
TZOFFSETTO:-0500
TZNAME:CDT
DTSTART:20250309T080000
END:DAYLIGHT
BEGIN:STANDARD
TZOFFSETFROM:-0500
TZOFFSETTO:-0600
TZNAME:CST
DTSTART:20251102T070000
END:STANDARD
BEGIN:DAYLIGHT
TZOFFSETFROM:-0600
TZOFFSETTO:-0500
TZNAME:CDT
DTSTART:20260308T080000
END:DAYLIGHT
BEGIN:STANDARD
TZOFFSETFROM:-0500
TZOFFSETTO:-0600
TZNAME:CST
DTSTART:20261101T070000
END:STANDARD
BEGIN:DAYLIGHT
TZOFFSETFROM:-0600
TZOFFSETTO:-0500
TZNAME:CDT
DTSTART:20270314T080000
END:DAYLIGHT
BEGIN:STANDARD
TZOFFSETFROM:-0500
TZOFFSETTO:-0600
TZNAME:CST
DTSTART:20271107T070000
END:STANDARD
END:VTIMEZONE
BEGIN:VEVENT
DTSTART;TZID=America/Chicago:20260423T183000
DTEND;TZID=America/Chicago:20260423T203000
DTSTAMP:20260423T110114
CREATED:20260309T171141Z
LAST-MODIFIED:20260309T171141Z
UID:12002050-1776969000-1776976200@fbchville.com
SUMMARY:FBCH Ladies Spring Gathering
DESCRIPTION:FBCH Ladies Spring Gathering | Thursday\, April 23\, 2026 | 6:30PM – 8:30PM | Wilson Hall \nGather for a fun\, festive time of connecting to God at the Ladies Spring Gathering. Experience a little spring renewal with dinner\, fellowship\, and an inspiring time of conversation with a panel of FBCH women on applying wisdom. \nChildcare is available. Register at fbchville.com/ladiesgather.
URL:https://fbchville.com/event/fbch-ladies-spring-gathering/
LOCATION:First Baptist Hendersonville\, 106 BLUEGRASS COMMONS BLVD \, Hendersonville\, TN\, 37075\, United States
CATEGORIES:Bulletin,Ladies
ATTACH;FMTTYPE=image/png:https://fbchville.com/wp-content/uploads/2026/03/ladiesspringgathering_digital_FINAL.png
GEO:36.3204302;-86.5671136
X-APPLE-STRUCTURED-LOCATION;VALUE=URI;X-ADDRESS=First Baptist Hendersonville 106 BLUEGRASS COMMONS BLVD  Hendersonville TN 37075 United States;X-APPLE-RADIUS=500;X-TITLE=106 BLUEGRASS COMMONS BLVD:geo:-86.5671136,36.3204302
END:VEVENT
BEGIN:VEVENT
DTSTART;TZID=America/Chicago:20260426T170000
DTEND;TZID=America/Chicago:20260426T190000
DTSTAMP:20260423T110114
CREATED:20260408T212828Z
LAST-MODIFIED:20260409T152833Z
UID:12002055-1777222800-1777230000@fbchville.com
SUMMARY:VBS Gather & Equipping Dinner
DESCRIPTION:April 26 | 5:00-7:00 PM | Wilson Hall\nDon’t miss an opportunity to share a meal with your VBS team and learn more about all the ins and outs of this year’s VBS. All K-5 Classroom Volunteers are invited to attend!
URL:https://fbchville.com/event/vbs-gather-equipping-dinner/
LOCATION:First Baptist Hendersonville\, 106 BLUEGRASS COMMONS BLVD \, Hendersonville\, TN\, 37075\, United States
CATEGORIES:Bulletin,VBS
ATTACH;FMTTYPE=image/png:https://fbchville.com/wp-content/uploads/2026/04/VBSdinner_digital.png
GEO:36.3204302;-86.5671136
X-APPLE-STRUCTURED-LOCATION;VALUE=URI;X-ADDRESS=First Baptist Hendersonville 106 BLUEGRASS COMMONS BLVD  Hendersonville TN 37075 United States;X-APPLE-RADIUS=500;X-TITLE=106 BLUEGRASS COMMONS BLVD:geo:-86.5671136,36.3204302
END:VEVENT
BEGIN:VEVENT
DTSTART;TZID=America/Chicago:20260429T200000
DTEND;TZID=America/Chicago:20260429T210000
DTSTAMP:20260423T110114
CREATED:20260316T200128Z
LAST-MODIFIED:20260331T180755Z
UID:12002051-1777492800-1777496400@fbchville.com
SUMMARY:Freshman Late Night
DESCRIPTION:Hey Freshmen! Stick around after HS Worship for some Underground Church and frozen treats from 8-9 PM on April 29.
URL:https://fbchville.com/event/freshman-late-night/
LOCATION:First Baptist Hendersonville\, 106 BLUEGRASS COMMONS BLVD \, Hendersonville\, TN\, 37075\, United States
CATEGORIES:Bulletin,High School
ATTACH;FMTTYPE=image/png:https://fbchville.com/wp-content/uploads/2026/03/Freshmanlatenight_digital.png
GEO:36.3204302;-86.5671136
X-APPLE-STRUCTURED-LOCATION;VALUE=URI;X-ADDRESS=First Baptist Hendersonville 106 BLUEGRASS COMMONS BLVD  Hendersonville TN 37075 United States;X-APPLE-RADIUS=500;X-TITLE=106 BLUEGRASS COMMONS BLVD:geo:-86.5671136,36.3204302
END:VEVENT
END:VCALENDAR