BEGIN:VCALENDAR
VERSION:2.0
PRODID:-//First Baptist Hendersonville - ECPv6.15.20//NONSGML v1.0//EN
CALSCALE:GREGORIAN
METHOD:PUBLISH
X-WR-CALNAME:First Baptist Hendersonville
X-ORIGINAL-URL:https://fbchville.com
X-WR-CALDESC:Events for First Baptist Hendersonville
REFRESH-INTERVAL;VALUE=DURATION:PT1H
X-Robots-Tag:noindex
X-PUBLISHED-TTL:PT1H
BEGIN:VTIMEZONE
TZID:America/Chicago
BEGIN:DAYLIGHT
TZOFFSETFROM:-0600
TZOFFSETTO:-0500
TZNAME:CDT
DTSTART:20250309T080000
END:DAYLIGHT
BEGIN:STANDARD
TZOFFSETFROM:-0500
TZOFFSETTO:-0600
TZNAME:CST
DTSTART:20251102T070000
END:STANDARD
BEGIN:DAYLIGHT
TZOFFSETFROM:-0600
TZOFFSETTO:-0500
TZNAME:CDT
DTSTART:20260308T080000
END:DAYLIGHT
BEGIN:STANDARD
TZOFFSETFROM:-0500
TZOFFSETTO:-0600
TZNAME:CST
DTSTART:20261101T070000
END:STANDARD
BEGIN:DAYLIGHT
TZOFFSETFROM:-0600
TZOFFSETTO:-0500
TZNAME:CDT
DTSTART:20270314T080000
END:DAYLIGHT
BEGIN:STANDARD
TZOFFSETFROM:-0500
TZOFFSETTO:-0600
TZNAME:CST
DTSTART:20271107T070000
END:STANDARD
END:VTIMEZONE
BEGIN:VEVENT
DTSTART;TZID=America/Chicago:20260422T183000
DTEND;TZID=America/Chicago:20260422T193000
DTSTAMP:20260423T124114
CREATED:20260408T161046Z
LAST-MODIFIED:20260408T161046Z
UID:12002053-1776882600-1776886200@fbchville.com
SUMMARY:Family Dedication Parent’s meeting
DESCRIPTION:If this is something your family is interested in doing\, register for the informational Parents Meeting. Sign ups for Family Dedication Sunday on May 17 will take place at this meeting. Register Here
URL:https://fbchville.com/event/family-dedication-parents-meeting/
LOCATION:First Baptist Hendersonville\, 106 BLUEGRASS COMMONS BLVD \, Hendersonville\, TN\, 37075\, United States
CATEGORIES:Bulletin,Preschool
ATTACH;FMTTYPE=image/png:https://fbchville.com/wp-content/uploads/2026/04/FamilyDedication-April2026.png
GEO:36.3204302;-86.5671136
X-APPLE-STRUCTURED-LOCATION;VALUE=URI;X-ADDRESS=First Baptist Hendersonville 106 BLUEGRASS COMMONS BLVD  Hendersonville TN 37075 United States;X-APPLE-RADIUS=500;X-TITLE=106 BLUEGRASS COMMONS BLVD:geo:-86.5671136,36.3204302
END:VEVENT
END:VCALENDAR