BEGIN:VCALENDAR
VERSION:2.0
PRODID:-//First Baptist Hendersonville - ECPv6.15.20//NONSGML v1.0//EN
CALSCALE:GREGORIAN
METHOD:PUBLISH
X-WR-CALNAME:First Baptist Hendersonville
X-ORIGINAL-URL:https://fbchville.com
X-WR-CALDESC:Events for First Baptist Hendersonville
REFRESH-INTERVAL;VALUE=DURATION:PT1H
X-Robots-Tag:noindex
X-PUBLISHED-TTL:PT1H
BEGIN:VTIMEZONE
TZID:America/Chicago
BEGIN:DAYLIGHT
TZOFFSETFROM:-0600
TZOFFSETTO:-0500
TZNAME:CDT
DTSTART:20250309T080000
END:DAYLIGHT
BEGIN:STANDARD
TZOFFSETFROM:-0500
TZOFFSETTO:-0600
TZNAME:CST
DTSTART:20251102T070000
END:STANDARD
BEGIN:DAYLIGHT
TZOFFSETFROM:-0600
TZOFFSETTO:-0500
TZNAME:CDT
DTSTART:20260308T080000
END:DAYLIGHT
BEGIN:STANDARD
TZOFFSETFROM:-0500
TZOFFSETTO:-0600
TZNAME:CST
DTSTART:20261101T070000
END:STANDARD
BEGIN:DAYLIGHT
TZOFFSETFROM:-0600
TZOFFSETTO:-0500
TZNAME:CDT
DTSTART:20270314T080000
END:DAYLIGHT
BEGIN:STANDARD
TZOFFSETFROM:-0500
TZOFFSETTO:-0600
TZNAME:CST
DTSTART:20271107T070000
END:STANDARD
END:VTIMEZONE
BEGIN:VEVENT
DTSTART;VALUE=DATE:20260417
DTEND;VALUE=DATE:20260426
DTSTAMP:20260423T051055
CREATED:20260105T194840Z
LAST-MODIFIED:20260115T220927Z
UID:12002012-1776384000-1777161599@fbchville.com
SUMMARY:Philippines Missionary Support Trip
DESCRIPTION:Work with missionaries in their evangelism efforts to serve families in the Philippines this summer. This is a great trip for those who enjoy serving with children! An interest meeting for this trip will take place on January 28 from 6:30-7:30 PM in Weekley 2231. \n Apply Now!
URL:https://fbchville.com/event/philippines-missionary-support-trip/
LOCATION:First Baptist Hendersonville\, 106 BLUEGRASS COMMONS BLVD \, Hendersonville\, TN\, 37075\, United States
CATEGORIES:Mission Trips
ATTACH;FMTTYPE=image/png:https://fbchville.com/wp-content/uploads/2026/01/Philippines_digital.png
GEO:36.3204302;-86.5671136
X-APPLE-STRUCTURED-LOCATION;VALUE=URI;X-ADDRESS=First Baptist Hendersonville 106 BLUEGRASS COMMONS BLVD  Hendersonville TN 37075 United States;X-APPLE-RADIUS=500;X-TITLE=106 BLUEGRASS COMMONS BLVD:geo:-86.5671136,36.3204302
END:VEVENT
BEGIN:VEVENT
DTSTART;TZID=America/Chicago:20260423T183000
DTEND;TZID=America/Chicago:20260423T203000
DTSTAMP:20260423T051055
CREATED:20260309T171141Z
LAST-MODIFIED:20260309T171141Z
UID:12002050-1776969000-1776976200@fbchville.com
SUMMARY:FBCH Ladies Spring Gathering
DESCRIPTION:FBCH Ladies Spring Gathering | Thursday\, April 23\, 2026 | 6:30PM – 8:30PM | Wilson Hall \nGather for a fun\, festive time of connecting to God at the Ladies Spring Gathering. Experience a little spring renewal with dinner\, fellowship\, and an inspiring time of conversation with a panel of FBCH women on applying wisdom. \nChildcare is available. Register at fbchville.com/ladiesgather.
URL:https://fbchville.com/event/fbch-ladies-spring-gathering/
LOCATION:First Baptist Hendersonville\, 106 BLUEGRASS COMMONS BLVD \, Hendersonville\, TN\, 37075\, United States
CATEGORIES:Bulletin,Ladies
ATTACH;FMTTYPE=image/png:https://fbchville.com/wp-content/uploads/2026/03/ladiesspringgathering_digital_FINAL.png
GEO:36.3204302;-86.5671136
X-APPLE-STRUCTURED-LOCATION;VALUE=URI;X-ADDRESS=First Baptist Hendersonville 106 BLUEGRASS COMMONS BLVD  Hendersonville TN 37075 United States;X-APPLE-RADIUS=500;X-TITLE=106 BLUEGRASS COMMONS BLVD:geo:-86.5671136,36.3204302
END:VEVENT
END:VCALENDAR